BEGIN:VCALENDAR
VERSION:2.0
PRODID:icalendar-ruby
CALSCALE:GREGORIAN
METHOD:PUBLISH
BEGIN:VEVENT
DTSTAMP:20260425T024319Z
UID:8-1516344@calvarychapelsolidrock.org
DTSTART:20261025T150000Z
DTEND:20261025T163000Z
CLASS:PUBLIC
CREATED:20260424T212506
DESCRIPTION:
LAST-MODIFIED:20260424T212506
LOCATION:Calvary Chapel Solid Rock
SUMMARY:Sunday Worship
URL;VALUE=URI:https://calvarychapelsolidrock.org/events/sunday-worship/2026
 -10-25
END:VEVENT
END:VCALENDAR
