BEGIN:VCALENDAR
VERSION:2.0
PRODID:icalendar-ruby
CALSCALE:GREGORIAN
METHOD:PUBLISH
BEGIN:VEVENT
DTSTAMP:20260425T010458Z
UID:8-1515061@calvarychapelsolidrock.org
DTSTART:20261018T150000Z
DTEND:20261018T163000Z
CLASS:PUBLIC
CREATED:20260424T183539
DESCRIPTION:
LAST-MODIFIED:20260424T183539
LOCATION:Calvary Chapel Solid Rock
SUMMARY:Sunday Worship
URL;VALUE=URI:https://calvarychapelsolidrock.org/events/sunday-worship/2026
 -10-18
END:VEVENT
END:VCALENDAR
