BEGIN:VCALENDAR
VERSION:2.0
PRODID:icalendar-ruby
CALSCALE:GREGORIAN
METHOD:PUBLISH
BEGIN:VEVENT
DTSTAMP:20260424T214923Z
UID:8-1513777@calvarychapelsolidrock.org
DTSTART:20261004T150000Z
DTEND:20261004T163000Z
CLASS:PUBLIC
CREATED:20260424T154747
DESCRIPTION:
LAST-MODIFIED:20260424T154747
LOCATION:Calvary Chapel Solid Rock
SUMMARY:Sunday Worship
URL;VALUE=URI:https://calvarychapelsolidrock.org/events/sunday-worship/2026
 -10-04
END:VEVENT
END:VCALENDAR
