BEGIN:VCALENDAR
VERSION:2.0
PRODID:icalendar-ruby
CALSCALE:GREGORIAN
METHOD:PUBLISH
BEGIN:VEVENT
DTSTAMP:20260424T184906Z
UID:8-1512493@calvarychapelsolidrock.org
DTSTART:20260920T150000Z
DTEND:20260920T163000Z
CLASS:PUBLIC
CREATED:20260424T130017
DESCRIPTION:
LAST-MODIFIED:20260424T130017
LOCATION:Calvary Chapel Solid Rock
SUMMARY:Sunday Worship
URL;VALUE=URI:https://calvarychapelsolidrock.org/events/sunday-worship/2026
 -09-20
END:VEVENT
END:VCALENDAR
