BEGIN:VCALENDAR
VERSION:2.0
PRODID:icalendar-ruby
CALSCALE:GREGORIAN
METHOD:PUBLISH
BEGIN:VEVENT
DTSTAMP:20260424T103259Z
UID:7-1508539@calvarychapelsolidrock.org
DTSTART:20261101T151500Z
DTEND:20261101T154500Z
CLASS:PUBLIC
CREATED:20260423T215250
DESCRIPTION:
LAST-MODIFIED:20260423T215250
LOCATION:Calvary Chapel Solid Rock
SUMMARY:Prayer Meeting
URL;VALUE=URI:https://calvarychapelsolidrock.org/events/prayer-meeting/2026
 -11-01
END:VEVENT
END:VCALENDAR
