BEGIN:VCALENDAR
VERSION:2.0
PRODID:icalendar-ruby
CALSCALE:GREGORIAN
METHOD:PUBLISH
BEGIN:VEVENT
DTSTAMP:20260424T074018Z
UID:7-1508537@calvarychapelsolidrock.org
DTSTART:20261018T141500Z
DTEND:20261018T144500Z
CLASS:PUBLIC
CREATED:20260423T215250
DESCRIPTION:
LAST-MODIFIED:20260423T215250
LOCATION:Calvary Chapel Solid Rock
SUMMARY:Prayer Meeting
URL;VALUE=URI:https://calvarychapelsolidrock.org/events/prayer-meeting/2026
 -10-18
END:VEVENT
END:VCALENDAR
