BEGIN:VCALENDAR
VERSION:2.0
PRODID:icalendar-ruby
CALSCALE:GREGORIAN
METHOD:PUBLISH
BEGIN:VEVENT
DTSTAMP:20260422T032824Z
UID:10-1493518@calvarychapelsolidrock.org
DTSTART:20261021T233000Z
DTEND:20261022T010000Z
CLASS:PUBLIC
CREATED:20260421T201339
DESCRIPTION:
LAST-MODIFIED:20260421T201339
LOCATION:
SUMMARY:Mid-Week Service
URL;VALUE=URI:https://calvarychapelsolidrock.org/events/mid-week-service/20
 26-10-21
END:VEVENT
END:VCALENDAR
