BEGIN:VCALENDAR
VERSION:2.0
PRODID:icalendar-ruby
CALSCALE:GREGORIAN
METHOD:PUBLISH
BEGIN:VEVENT
DTSTAMP:20260421T224826Z
UID:10-1492237@calvarychapelsolidrock.org
DTSTART:20260930T233000Z
DTEND:20261001T010000Z
CLASS:PUBLIC
CREATED:20260421T173449
DESCRIPTION:
LAST-MODIFIED:20260421T173449
LOCATION:
SUMMARY:Mid-Week Service
URL;VALUE=URI:https://calvarychapelsolidrock.org/events/mid-week-service/20
 26-09-30
END:VEVENT
END:VCALENDAR
