BEGIN:VCALENDAR
VERSION:2.0
PRODID:icalendar-ruby
CALSCALE:GREGORIAN
METHOD:PUBLISH
BEGIN:VEVENT
DTSTAMP:20260421T200042Z
UID:10-1490957@calvarychapelsolidrock.org
DTSTART:20260916T233000Z
DTEND:20260917T010000Z
CLASS:PUBLIC
CREATED:20260421T145641
DESCRIPTION:
LAST-MODIFIED:20260421T145641
LOCATION:
SUMMARY:Mid-Week Service
URL;VALUE=URI:https://calvarychapelsolidrock.org/events/mid-week-service/20
 26-09-16
END:VEVENT
END:VCALENDAR
