BEGIN:VCALENDAR
VERSION:2.0
PRODID:icalendar-ruby
CALSCALE:GREGORIAN
METHOD:PUBLISH
BEGIN:VEVENT
DTSTAMP:20260421T180350Z
UID:10-1489678@calvarychapelsolidrock.org
DTSTART:20260909T233000Z
DTEND:20260910T010000Z
CLASS:PUBLIC
CREATED:20260421T122035
DESCRIPTION:
LAST-MODIFIED:20260421T122035
LOCATION:
SUMMARY:Mid-Week Service
URL;VALUE=URI:https://calvarychapelsolidrock.org/events/mid-week-service/20
 26-09-09
END:VEVENT
END:VCALENDAR
