BEGIN:VCALENDAR
VERSION:2.0
PRODID:icalendar-ruby
CALSCALE:GREGORIAN
METHOD:PUBLISH
BEGIN:VEVENT
DTSTAMP:20260421T162458Z
UID:10-1488401@calvarychapelsolidrock.org
DTSTART:20260902T233000Z
DTEND:20260903T010000Z
CLASS:PUBLIC
CREATED:20260421T094049
DESCRIPTION:
LAST-MODIFIED:20260421T094049
LOCATION:
SUMMARY:Mid-Week Service
URL;VALUE=URI:https://calvarychapelsolidrock.org/events/mid-week-service/20
 26-09-02
END:VEVENT
END:VCALENDAR
