BEGIN:VCALENDAR
VERSION:2.0
PRODID:icalendar-ruby
CALSCALE:GREGORIAN
METHOD:PUBLISH
BEGIN:VEVENT
DTSTAMP:20260421T145843Z
UID:10-1488400@calvarychapelsolidrock.org
DTSTART:20260826T233000Z
DTEND:20260827T010000Z
CLASS:PUBLIC
CREATED:20260421T094049
DESCRIPTION:
LAST-MODIFIED:20260421T094049
LOCATION:
SUMMARY:Mid-Week Service
URL;VALUE=URI:https://calvarychapelsolidrock.org/events/mid-week-service/20
 26-08-26
END:VEVENT
END:VCALENDAR
