BEGIN:VCALENDAR
VERSION:2.0
PRODID:icalendar-ruby
CALSCALE:GREGORIAN
METHOD:PUBLISH
BEGIN:VEVENT
DTSTAMP:20260421T131149Z
UID:10-1487124@calvarychapelsolidrock.org
DTSTART:20260819T233000Z
DTEND:20260820T010000Z
CLASS:PUBLIC
CREATED:20260421T070518
DESCRIPTION:
LAST-MODIFIED:20260421T070518
LOCATION:
SUMMARY:Mid-Week Service
URL;VALUE=URI:https://calvarychapelsolidrock.org/events/mid-week-service/20
 26-08-19
END:VEVENT
END:VCALENDAR
