BEGIN:VCALENDAR
VERSION:2.0
PRODID:icalendar-ruby
CALSCALE:GREGORIAN
METHOD:PUBLISH
BEGIN:VEVENT
DTSTAMP:20260421T113935Z
UID:10-1485622@calvarychapelsolidrock.org
DTSTART:20260812T233000Z
DTEND:20260813T010000Z
CLASS:PUBLIC
CREATED:20260420T195834
DESCRIPTION:
LAST-MODIFIED:20260420T195834
LOCATION:
SUMMARY:Mid-Week Service
URL;VALUE=URI:https://calvarychapelsolidrock.org/events/mid-week-service/20
 26-08-12
END:VEVENT
END:VCALENDAR
