BEGIN:VCALENDAR
VERSION:2.0
PRODID:icalendar-ruby
CALSCALE:GREGORIAN
METHOD:PUBLISH
BEGIN:VEVENT
DTSTAMP:20260421T100213Z
UID:10-1485621@calvarychapelsolidrock.org
DTSTART:20260805T233000Z
DTEND:20260806T010000Z
CLASS:PUBLIC
CREATED:20260420T195834
DESCRIPTION:
LAST-MODIFIED:20260420T195834
LOCATION:
SUMMARY:Mid-Week Service
URL;VALUE=URI:https://calvarychapelsolidrock.org/events/mid-week-service/20
 26-08-05
END:VEVENT
END:VCALENDAR
