BEGIN:VCALENDAR
VERSION:2.0
PRODID:icalendar-ruby
CALSCALE:GREGORIAN
METHOD:PUBLISH
BEGIN:VEVENT
DTSTAMP:20260424T155023Z
UID:27-1511957@calvarychapelsolidrock.org
DTSTART:20261105T233000Z
DTEND:20261106T003000Z
CLASS:PUBLIC
CREATED:20260424T101356
DESCRIPTION:
LAST-MODIFIED:20260424T101356
LOCATION:Calvary Chapel Solid Rock
SUMMARY:Men's Bible Study
URL;VALUE=URI:https://calvarychapelsolidrock.org/events/mens-bible-study--2
 7/2026-11-05
END:VEVENT
END:VCALENDAR
