BEGIN:VCALENDAR
VERSION:2.0
PRODID:icalendar-ruby
CALSCALE:GREGORIAN
METHOD:PUBLISH
BEGIN:VEVENT
DTSTAMP:20260424T123036Z
UID:27-1510673@calvarychapelsolidrock.org
DTSTART:20261022T223000Z
DTEND:20261022T233000Z
CLASS:PUBLIC
CREATED:20260424T072106
DESCRIPTION:
LAST-MODIFIED:20260424T072106
LOCATION:Calvary Chapel Solid Rock
SUMMARY:Men's Bible Study
URL;VALUE=URI:https://calvarychapelsolidrock.org/events/mens-bible-study--2
 7/2026-10-22
END:VEVENT
END:VCALENDAR
