BEGIN:VCALENDAR
VERSION:2.0
PRODID:icalendar-ruby
CALSCALE:GREGORIAN
METHOD:PUBLISH
BEGIN:VEVENT
DTSTAMP:20260424T105957Z
UID:27-1509390@calvarychapelsolidrock.org
DTSTART:20261015T223000Z
DTEND:20261015T233000Z
CLASS:PUBLIC
CREATED:20260423T215254
DESCRIPTION:
LAST-MODIFIED:20260423T215254
LOCATION:Calvary Chapel Solid Rock
SUMMARY:Men's Bible Study
URL;VALUE=URI:https://calvarychapelsolidrock.org/events/mens-bible-study--2
 7/2026-10-15
END:VEVENT
END:VCALENDAR
