BEGIN:VCALENDAR
VERSION:2.0
PRODID:icalendar-ruby
CALSCALE:GREGORIAN
METHOD:PUBLISH
BEGIN:VEVENT
DTSTAMP:20260424T094125Z
UID:27-1509389@calvarychapelsolidrock.org
DTSTART:20261008T223000Z
DTEND:20261008T233000Z
CLASS:PUBLIC
CREATED:20260423T215254
DESCRIPTION:
LAST-MODIFIED:20260423T215254
LOCATION:Calvary Chapel Solid Rock
SUMMARY:Men's Bible Study
URL;VALUE=URI:https://calvarychapelsolidrock.org/events/mens-bible-study--2
 7/2026-10-08
END:VEVENT
END:VCALENDAR
